BEGIN:VCALENDAR
PRODID:-//eluceo/ical//2.0/EN
VERSION:2.0
CALSCALE:GREGORIAN
BEGIN:VEVENT
UID:e78b56706912a6f6fac011bcf660b576
DTSTAMP:20260421T075619Z
SUMMARY:NVSG Ontmoetingsdag
DESCRIPTION:
URL:https://rotary2140.org/fr/agenda/show/89293
DTSTART;TZID=Europe/Zurich:20251122T090000
DTEND;TZID=Europe/Zurich:20251122T130000
LOCATION:Van der Valk Hotel - SPA
CATEGORIES:Rotary
END:VEVENT
BEGIN:VTIMEZONE
TZID:Europe/Zurich
BEGIN:STANDARD
DTSTART:20251122T090000
TZNAME:CET
TZOFFSETTO:+0100
TZOFFSETFROM:+0100
END:STANDARD
END:VTIMEZONE
END:VCALENDAR
